BEGIN:VCALENDAR
VERSION:2.0
PRODID:-//IP.Board Calendar 4.3.6//EN
METHOD:PUBLISH
CALSCALE:GREGORIAN
X-WR-CALNAME:Россия
BEGIN:VTIMEZONE
TZID:Europe/London
TZURL:http://tzurl.org/zoneinfo/Europe/London
X-LIC-LOCATION:Europe/London
BEGIN:DAYLIGHT
TZOFFSETFROM:+0000
TZOFFSETTO:+0100
TZNAME:BST
DTSTART:20260329T020000Z
RRULE:FREQ=YEARLY;BYMONTH=3;BYDAY=-1SU
END:DAYLIGHT
BEGIN:STANDARD
TZOFFSETFROM:+0100
TZOFFSETTO:+0000
TZNAME:GMT
DTSTART:20261025T020000Z
RRULE:FREQ=YEARLY;BYMONTH=10;BYDAY=-1SU
END:STANDARD
END:VTIMEZONE
BEGIN:VEVENT
SUMMARY:Варганный джем в Обертон Про (СПб
	)
DTSTAMP:20260419T101335Z
SEQUENCE:0
UID:455-1-3c95f101bcfd9f1d975a45444a9763fd@www.oberton.pro
ORGANIZER;CN="0leg":forum@oberton.pro
DESCRIPTION:\n\n	Варганный джем №130
	\n\n\n\n	Джем - со
	вместная 
	игра без
	 предварите
	льной подго
	товки. Пригла
	шаем музыкан
	тов любых нап
	равлений\, с
	 любыми инс
	трументами\
	, которым б
	удет интере
	сно поиграть
	 вместе с ва
	рганистами 
	в дружеско
	й атмосфере
	. А для уве
	ренно вл
	адеющих 
	варганом
	 такое меро
	приятие мо
	жет стать ист
	очником соверш
	енно неожиданн
	ого опыта - созд
	аваясь \"здесь и
	 сейчас\" разны
	ми участниками 
	и даже зрителями\, ка
	ждый джем уникален и непредск
	азуем.\n\n\n\n	Правила:\n\n\n\n\n		В з
	але вести себя тихо\n	\n	\n
			Играть можно тольк
	о на сцене\n	\n	\n		Ва
	рганисты могут
	 выходить к микрофона
	м по желанию\, в любо
	й момент времени\n
		\n	\n		Музыкант
	ы с други
	ми инструме
	нтами могут играть то
	лько по предварительной 
	договоренности (@0leg)\n	\
	n	\n		На сцене могут нахо
	диться не более 6 челов
	ек одновременно\n	\n\n\n	Мо
	жно\, конечно\, прийти и просто поглазеть)
	\n\n
DTSTART:20260423T210000Z
END:VEVENT
END:VCALENDAR
