BEGIN:VCALENDAR
VERSION:2.0
PRODID:-//IP.Board Calendar 4.3.6//EN
METHOD:PUBLISH
CALSCALE:GREGORIAN
X-WR-CALNAME:Россия
BEGIN:VTIMEZONE
TZID:Europe/London
TZURL:http://tzurl.org/zoneinfo/Europe/London
X-LIC-LOCATION:Europe/London
BEGIN:DAYLIGHT
TZOFFSETFROM:+0000
TZOFFSETTO:+0100
TZNAME:BST
DTSTART:20260329T020000Z
RRULE:FREQ=YEARLY;BYMONTH=3;BYDAY=-1SU
END:DAYLIGHT
BEGIN:STANDARD
TZOFFSETFROM:+0100
TZOFFSETTO:+0000
TZNAME:GMT
DTSTART:20261025T020000Z
RRULE:FREQ=YEARLY;BYMONTH=10;BYDAY=-1SU
END:STANDARD
END:VTIMEZONE
BEGIN:VEVENT
SUMMARY:Концерт группы Microcoma
DTSTAMP:20260402T093353Z
SEQUENCE:0
UID:454-1-3c95f101bcfd9f1d975a45444a9763fd@www.oberton.pro
ORGANIZER;CN="symbolkid":forum@oberton.pro
DESCRIPTION:\n\n	В субботу 25.04 провар
	ганная группа Microcoma\, завсегдатаи фес
	тиваля Ethnoscope:\n\n\n\n	 \n\n\n\n	2023 год: https://vkvideo.
	ru/video-214146944_456239243 https://vkvideo.ru/video-214146944_456239243
	?t=35m31s\n\n\n\n	2024 год: https://vkvideo.ru/video-214146944_456239
	396 \n\n\n\n	 \n\n\n\n	в микр
	осоставе в микроконцерте в гостя
	х у Обертон Про. А потом джем.\n\n
DTSTART:20260425T170000Z
END:VEVENT
END:VCALENDAR
