BEGIN:VCALENDAR
VERSION:2.0
PRODID:-//IP.Board Calendar 4.3.6//EN
METHOD:PUBLISH
CALSCALE:GREGORIAN
X-WR-CALNAME:Россия
BEGIN:VTIMEZONE
TZID:Europe/London
TZURL:http://tzurl.org/zoneinfo/Europe/London
X-LIC-LOCATION:Europe/London
BEGIN:DAYLIGHT
TZOFFSETFROM:+0000
TZOFFSETTO:+0100
TZNAME:BST
DTSTART:20230326T020000Z
RRULE:FREQ=YEARLY;BYMONTH=3;BYDAY=-1SU
END:DAYLIGHT
BEGIN:STANDARD
TZOFFSETFROM:+0100
TZOFFSETTO:+0000
TZNAME:GMT
DTSTART:20231029T020000Z
RRULE:FREQ=YEARLY;BYMONTH=10;BYDAY=-1SU
END:STANDARD
END:VTIMEZONE
BEGIN:VEVENT
SUMMARY:Акустический Джем
DTSTAMP:20230110T092534Z
SEQUENCE:0
UID:369-1-3c95f101bcfd9f1d975a45444a9763fd@www.oberton.pro
ORGANIZER;CN="Kashey_varganiy":forum@oberton.pro
DESCRIPTION:\n	Мы устраи
	ваем акусти
	ческий джем 
	и ждем всех
	 уставших от шума це
	нителей варганного звука на частоте Об
	ертон Про\n\n
DTSTART:20230113T170000Z
END:VEVENT
END:VCALENDAR
