BEGIN:VCALENDAR
VERSION:2.0
PRODID:-//IP.Board Calendar 4.3.6//EN
METHOD:PUBLISH
CALSCALE:GREGORIAN
X-WR-CALNAME:Россия
BEGIN:VTIMEZONE
TZID:Europe/London
TZURL:http://tzurl.org/zoneinfo/Europe/London
X-LIC-LOCATION:Europe/London
BEGIN:DAYLIGHT
TZOFFSETFROM:+0000
TZOFFSETTO:+0100
TZNAME:BST
DTSTART:20220327T020000Z
RRULE:FREQ=YEARLY;BYMONTH=3;BYDAY=-1SU
END:DAYLIGHT
BEGIN:STANDARD
TZOFFSETFROM:+0100
TZOFFSETTO:+0000
TZNAME:GMT
DTSTART:20221030T020000Z
RRULE:FREQ=YEARLY;BYMONTH=10;BYDAY=-1SU
END:STANDARD
END:VTIMEZONE
BEGIN:VEVENT
SUMMARY:Варганный Джем
DTSTAMP:20221004T102717Z
SEQUENCE:0
UID:353-1-3c95f101bcfd9f1d975a45444a9763fd@www.oberton.pro
ORGANIZER;CN="Kashey_varganiy":forum@oberton.pro
DESCRIPTION:\n	Говорят
	 всех варга
	ннистов связ
	ывает общая 
	варганная се
	ть. Так дава
	йте провери
	м эту байку
	 и через ва
	рганный д
	жемовый 
	транс вый
	дем в тр
	ансценд
	ентный в
	арганне
	т для обмена 
	спиритическ
	ими и метафизич
	ескими варганн
	ыми вибрациями. \n\n	Тольк
	о варганы - только положительный настрой
	.\n
DTSTART:20221021T170000Z
END:VEVENT
END:VCALENDAR
