BEGIN:VCALENDAR
VERSION:2.0
PRODID:-//IP.Board Calendar 4.3.6//EN
METHOD:PUBLISH
CALSCALE:GREGORIAN
X-WR-CALNAME:Россия
BEGIN:VTIMEZONE
TZID:Europe/London
TZURL:http://tzurl.org/zoneinfo/Europe/London
X-LIC-LOCATION:Europe/London
BEGIN:DAYLIGHT
TZOFFSETFROM:+0000
TZOFFSETTO:+0100
TZNAME:BST
DTSTART:20220327T020000Z
RRULE:FREQ=YEARLY;BYMONTH=3;BYDAY=-1SU
END:DAYLIGHT
BEGIN:STANDARD
TZOFFSETFROM:+0100
TZOFFSETTO:+0000
TZNAME:GMT
DTSTART:20221030T020000Z
RRULE:FREQ=YEARLY;BYMONTH=10;BYDAY=-1SU
END:STANDARD
END:VTIMEZONE
BEGIN:VEVENT
SUMMARY:Варганная рулетка
DTSTAMP:20221004T092932Z
SEQUENCE:0
UID:352-1-3c95f101bcfd9f1d975a45444a9763fd@www.oberton.pro
ORGANIZER;CN="Kashey_varganiy":forum@oberton.pro
DESCRIPTION:\n\n	\n		\n			Варга
	нная рулетк
	а: участник
	и вытаскива
	ют лотерейны
	е билеты с ном
	ером и каждые
	 два соседние
	 номера идут играт
	ь на сцене. Начинает и выбирает 
	ноту меньший номер.\n		\n	\n\n	\n		\n			 \n		\
	n	\n\n	\n		\n			Только вдвое
	м\, только на варган
	ах\, никакого ГМО. Питерские варга
	нисты\, ждем вас!\n		\n	\n\n	\n		\n			 \n		
	\n	\n\n\n\n	Минимальн
	ые системные
	 требования: 
	умение играть 
	под метроном.\nРеком
	ендуемые: настроенные на ноту варганы.\n\n
	\n\n	Начало в 20:00.\n\n
DTSTART:20221007T170000Z
END:VEVENT
END:VCALENDAR
