BEGIN:VCALENDAR
VERSION:2.0
PRODID:-//IP.Board Calendar 4.3.6//EN
METHOD:PUBLISH
CALSCALE:GREGORIAN
X-WR-CALNAME:Россия
BEGIN:VTIMEZONE
TZID:Europe/London
TZURL:http://tzurl.org/zoneinfo/Europe/London
X-LIC-LOCATION:Europe/London
BEGIN:DAYLIGHT
TZOFFSETFROM:+0000
TZOFFSETTO:+0100
TZNAME:BST
DTSTART:20220327T020000Z
RRULE:FREQ=YEARLY;BYMONTH=3;BYDAY=-1SU
END:DAYLIGHT
BEGIN:STANDARD
TZOFFSETFROM:+0100
TZOFFSETTO:+0000
TZNAME:GMT
DTSTART:20221030T020000Z
RRULE:FREQ=YEARLY;BYMONTH=10;BYDAY=-1SU
END:STANDARD
END:VTIMEZONE
BEGIN:VEVENT
SUMMARY:Варганный клуб с Игорем Дмитриев
	ым
DTSTAMP:20220911T171155Z
SEQUENCE:0
UID:347-1-3c95f101bcfd9f1d975a45444a9763fd@www.oberton.pro
ORGANIZER;CN="Kashey_varganiy":forum@oberton.pro
DESCRIPTION:\n	Варганный кл
	уб - это в первую
	 очередь площадк
	а для того\, что
	б узнавать нов
	ое. В Обертон Пр
	о мы ждем вас к
	аждый четверг дабы пробовать то\, чего 
	раньше не пробовали \n
DTSTART:20220915T163000Z
END:VEVENT
END:VCALENDAR
