BEGIN:VCALENDAR
VERSION:2.0
PRODID:-//IP.Board Calendar 4.3.6//EN
METHOD:PUBLISH
CALSCALE:GREGORIAN
X-WR-CALNAME:Россия
BEGIN:VTIMEZONE
TZID:Europe/London
TZURL:http://tzurl.org/zoneinfo/Europe/London
X-LIC-LOCATION:Europe/London
BEGIN:DAYLIGHT
TZOFFSETFROM:+0000
TZOFFSETTO:+0100
TZNAME:BST
DTSTART:20220327T020000Z
RRULE:FREQ=YEARLY;BYMONTH=3;BYDAY=-1SU
END:DAYLIGHT
BEGIN:STANDARD
TZOFFSETFROM:+0100
TZOFFSETTO:+0000
TZNAME:GMT
DTSTART:20221030T020000Z
RRULE:FREQ=YEARLY;BYMONTH=10;BYDAY=-1SU
END:STANDARD
END:VTIMEZONE
BEGIN:VEVENT
SUMMARY:Варганный джем в Обертон Про (СПб
	)
DTSTAMP:20220209T123740Z
SEQUENCE:0
UID:334-1-3c95f101bcfd9f1d975a45444a9763fd@www.oberton.pro
ORGANIZER;CN="0leg":forum@oberton.pro
DESCRIPTION:\n\n	Джем открытия Оберто
	на 2!\n\n\n\n\n	Джем - 
	совместн
	ая игра б
	ез предвар
	ительной по
	дготовки. 
	Приглашаем 
	музыкантов л
	юбых направл
	ений\, с любым
	и инструмен
	тами\, котор
	ым будет ин
	тересно пои
	грать вмест
	е с варганис
	тами в друж
	еской атмо
	сфере. А дл
	я уверенн
	о владеющ
	их варга
	ном тако
	е мероприя
	тие может ст
	ать источник
	ом совершенно н
	еожиданного опы
	та - создаваясь \"
	здесь и сейчас
	\" разными уча
	стниками и даже зрит
	елями\, каждый джем уни
	кален и непредсказуем
	.\n\n\n\n	Можно\, конечно\, прийти и про
	сто поглазеть)\n\n
DTSTART:20220211T170000Z
END:VEVENT
END:VCALENDAR
