BEGIN:VCALENDAR
VERSION:2.0
PRODID:-//IP.Board Calendar 4.3.6//EN
METHOD:PUBLISH
CALSCALE:GREGORIAN
X-WR-CALNAME:Россия
BEGIN:VTIMEZONE
TZID:Europe/London
TZURL:http://tzurl.org/zoneinfo/Europe/London
X-LIC-LOCATION:Europe/London
BEGIN:DAYLIGHT
TZOFFSETFROM:+0000
TZOFFSETTO:+0100
TZNAME:BST
DTSTART:20210328T020000Z
RRULE:FREQ=YEARLY;BYMONTH=3;BYDAY=-1SU
END:DAYLIGHT
BEGIN:STANDARD
TZOFFSETFROM:+0100
TZOFFSETTO:+0000
TZNAME:GMT
DTSTART:20211031T020000Z
RRULE:FREQ=YEARLY;BYMONTH=10;BYDAY=-1SU
END:STANDARD
END:VTIMEZONE
BEGIN:VEVENT
SUMMARY:Варганный джем в Обертон Про (СПб
	)
DTSTAMP:20210730T083713Z
SEQUENCE:0
UID:322-1-3c95f101bcfd9f1d975a45444a9763fd@www.oberton.pro
ORGANIZER;CN="0leg":forum@oberton.pro
DESCRIPTION:\n\n	Внеплановый дже
	м\n\n\n\n	Джем - с
	овместна
	я игра бе
	з предварит
	ельной подг
	отовки. Приг
	лашаем музык
	антов любых 
	направлений\
	, с любыми ин
	струментами
	\, которым б
	удет интере
	сно поиграть
	 вместе с ва
	рганистами 
	в дружеско
	й атмосфере
	. А для уве
	ренно вл
	адеющих 
	варганом
	 такое меро
	приятие мо
	жет стать ист
	очником соверш
	енно неожиданн
	ого опыта - созд
	аваясь \"здесь и
	 сейчас\" разны
	ми участниками 
	и даже зрителями\, каж
	дый джем уникален и не
	предсказуем.\n\n\n\n	Можно\, конеч
	но\, прийти и просто поглазеть)\n\n
DTSTART:20210805T170000Z
END:VEVENT
END:VCALENDAR
