BEGIN:VCALENDAR
VERSION:2.0
PRODID:-//IP.Board Calendar 4.3.6//EN
METHOD:PUBLISH
CALSCALE:GREGORIAN
X-WR-CALNAME:Россия
BEGIN:VTIMEZONE
TZID:Europe/London
TZURL:http://tzurl.org/zoneinfo/Europe/London
X-LIC-LOCATION:Europe/London
BEGIN:DAYLIGHT
TZOFFSETFROM:+0000
TZOFFSETTO:+0100
TZNAME:BST
DTSTART:20210328T020000Z
RRULE:FREQ=YEARLY;BYMONTH=3;BYDAY=-1SU
END:DAYLIGHT
BEGIN:STANDARD
TZOFFSETFROM:+0100
TZOFFSETTO:+0000
TZNAME:GMT
DTSTART:20211031T020000Z
RRULE:FREQ=YEARLY;BYMONTH=10;BYDAY=-1SU
END:STANDARD
END:VTIMEZONE
BEGIN:VEVENT
SUMMARY:Основы нотной грамоты (Школа в
	аргана/СПб)
DTSTAMP:20210730T083120Z
SEQUENCE:0
UID:321-1-3c95f101bcfd9f1d975a45444a9763fd@www.oberton.pro
ORGANIZER;CN="0leg":forum@oberton.pro
DESCRIPTION:\n\n	Учимся 
	читать неп
	онятные з
	акорючки
	 и исполь
	зовать их дл
	я доступа к бе
	сконечному количе
	ству упражнений. Пульс
	\, темп\, метр\, размер\, такт\,
	 доля\, высота\, длите
	льности. \n\n\n\n	(Серия монотематиче
	ских занятий https://www.oberton.pro/ru/info/school.htm#m
	tz)\n\n\n\n	Сложность: 3\n\n	Пр
	одолжительность: 1\,5 ч
	аса (зависит от состава гру
	ппы)\n\n	Стоимость: 300р\n\n\n\n	Запись по
	 адресу: play@oberton.pro (за день до занят
	ия или раньше)\n\n
DTSTART:20210811T170000Z
END:VEVENT
END:VCALENDAR
