BEGIN:VCALENDAR
VERSION:2.0
PRODID:-//IP.Board Calendar 4.3.6//EN
METHOD:PUBLISH
CALSCALE:GREGORIAN
X-WR-CALNAME:Россия
BEGIN:VTIMEZONE
TZID:Europe/London
TZURL:http://tzurl.org/zoneinfo/Europe/London
X-LIC-LOCATION:Europe/London
BEGIN:DAYLIGHT
TZOFFSETFROM:+0000
TZOFFSETTO:+0100
TZNAME:BST
DTSTART:20210328T020000Z
RRULE:FREQ=YEARLY;BYMONTH=3;BYDAY=-1SU
END:DAYLIGHT
BEGIN:STANDARD
TZOFFSETFROM:+0100
TZOFFSETTO:+0000
TZNAME:GMT
DTSTART:20211031T020000Z
RRULE:FREQ=YEARLY;BYMONTH=10;BYDAY=-1SU
END:STANDARD
END:VTIMEZONE
BEGIN:VEVENT
SUMMARY:Акценты (Школа варгана/СПб)
DTSTAMP:20210714T081601Z
SEQUENCE:0
UID:317-1-3c95f101bcfd9f1d975a45444a9763fd@www.oberton.pro
ORGANIZER;CN="0leg":forum@oberton.pro
DESCRIPTION:\n\n	Практ
	ическое з
	анятие по отработ
	ке техники акцент
	ирования и ритмиче
	ских навыков.\n\n\n\n	(Серия монот
	ематических занятий https://www.oberton.pro/ru/info/sch
	ool.htm#mtz)\n\n\n\n	\nСложность: 3-5\n\
	n	Продолжительность: 
	1-2 часа (зависит от состава
	 группы)\n\n	Стоимость: 300р\n\n\n	Запись
	 по почте: play@oberton.pro (за день до занятия
	 или раньше)\n\n
DTSTART:20210729T170000Z
END:VEVENT
END:VCALENDAR
