BEGIN:VCALENDAR
VERSION:2.0
PRODID:-//IP.Board Calendar 4.3.6//EN
METHOD:PUBLISH
CALSCALE:GREGORIAN
X-WR-CALNAME:Россия
BEGIN:VTIMEZONE
TZID:Europe/London
TZURL:http://tzurl.org/zoneinfo/Europe/London
X-LIC-LOCATION:Europe/London
BEGIN:DAYLIGHT
TZOFFSETFROM:+0000
TZOFFSETTO:+0100
TZNAME:BST
DTSTART:20210328T020000Z
RRULE:FREQ=YEARLY;BYMONTH=3;BYDAY=-1SU
END:DAYLIGHT
BEGIN:STANDARD
TZOFFSETFROM:+0100
TZOFFSETTO:+0000
TZNAME:GMT
DTSTART:20211031T020000Z
RRULE:FREQ=YEARLY;BYMONTH=10;BYDAY=-1SU
END:STANDARD
END:VTIMEZONE
BEGIN:VEVENT
SUMMARY:Джем с Микрокомой в Обертон Про
	 (СПб)
DTSTAMP:20210621T132935Z
SEQUENCE:0
UID:311-1-3c95f101bcfd9f1d975a45444a9763fd@www.oberton.pro
ORGANIZER;CN="0leg":forum@oberton.pro
DESCRIPTION:\n	\n		\n			Джем с коллективом Microcoma
	.\n		\n\n		\n			Джем - со
	вместная 
	игра без
	 предварите
	льной подго
	товки. Пригла
	шаем музыкан
	тов любых нап
	равлений\, с
	 любыми инс
	трументами\
	, которым б
	удет интере
	сно поиграть
	 вместе с ва
	рганистами 
	в дружеско
	й атмосфере
	. А для уве
	ренно вл
	адеющих 
	варганом
	 такое меро
	приятие мо
	жет стать ист
	очником соверш
	енно неожиданн
	ого опыта - созд
	аваясь \"здесь и
	 сейчас\" разны
	ми участниками 
	и даже зрителями\, каждый
	 джем уникален и непредсказу
	ем.\n		\n\n		\n			Можно\, конечно\, пр
	ийти и просто поглазеть)\
	n		\n\n		\n			*Безалкогол
	ьное мероприятие
	 - не приносите с собой и не приходите в
	 нетрезвом виде.\n		\n	\n
DTSTART:20210706T160000Z
END:VEVENT
END:VCALENDAR
