BEGIN:VCALENDAR
VERSION:2.0
PRODID:-//IP.Board Calendar 4.3.6//EN
METHOD:PUBLISH
CALSCALE:GREGORIAN
X-WR-CALNAME:Россия
BEGIN:VTIMEZONE
TZID:Europe/London
TZURL:http://tzurl.org/zoneinfo/Europe/London
X-LIC-LOCATION:Europe/London
BEGIN:DAYLIGHT
TZOFFSETFROM:+0000
TZOFFSETTO:+0100
TZNAME:BST
DTSTART:20210328T020000Z
RRULE:FREQ=YEARLY;BYMONTH=3;BYDAY=-1SU
END:DAYLIGHT
BEGIN:STANDARD
TZOFFSETFROM:+0100
TZOFFSETTO:+0000
TZNAME:GMT
DTSTART:20211031T020000Z
RRULE:FREQ=YEARLY;BYMONTH=10;BYDAY=-1SU
END:STANDARD
END:VTIMEZONE
BEGIN:VEVENT
SUMMARY:Акустический варганный джем в 
	Обертон Про (СПб)
DTSTAMP:20210603T065030Z
SEQUENCE:0
UID:306-1-3c95f101bcfd9f1d975a45444a9763fd@www.oberton.pro
ORGANIZER;CN="0leg":forum@oberton.pro
DESCRIPTION:\n\n	Джем unplugged.\n\n\n\n	Дж
	ем - совме
	стная игр
	а без пре
	дварительн
	ой подготов
	ки. Приглаш
	аем музыкант
	ов любых нап
	равлений\, с
	 тихими ак
	устическим
	и инструмен
	тами\, котор
	ым будет ин
	тересно пои
	грать вмест
	е с варганис
	тами в друж
	еской атмо
	сфере. А дл
	я уверенн
	о владеющ
	их варга
	ном тако
	е мероприя
	тие может ст
	ать источник
	ом совершенно н
	еожиданного опы
	та - создаваясь \"
	здесь и сейчас
	\" разными уча
	стниками и даже зрит
	елями\, каждый джем уни
	кален и непредсказуем
	.\n\n\n\n	Можно\, конечно\, пр
	ийти и просто погла
	зеть)\n\n\n\n	*Безалк
	огольное меро
	приятие - не приносите с собой 
	и не приходите в нетрезвом виде.\n\n
DTSTART:20210615T170000Z
END:VEVENT
END:VCALENDAR
