BEGIN:VCALENDAR
VERSION:2.0
PRODID:-//IP.Board Calendar 4.3.6//EN
METHOD:PUBLISH
CALSCALE:GREGORIAN
BEGIN:VTIMEZONE
TZID:Europe/London
TZURL:http://tzurl.org/zoneinfo/Europe/London
X-LIC-LOCATION:Europe/London
BEGIN:DAYLIGHT
TZOFFSETFROM:+0000
TZOFFSETTO:+0100
TZNAME:BST
DTSTART:20230326T020000Z
RRULE:FREQ=YEARLY;BYMONTH=3;BYDAY=-1SU
END:DAYLIGHT
BEGIN:STANDARD
TZOFFSETFROM:+0100
TZOFFSETTO:+0000
TZNAME:GMT
DTSTART:20231029T020000Z
RRULE:FREQ=YEARLY;BYMONTH=10;BYDAY=-1SU
END:STANDARD
END:VTIMEZONE
BEGIN:VTIMEZONE
TZID:Europe/London
TZURL:http://tzurl.org/zoneinfo/Europe/London
X-LIC-LOCATION:Europe/London
BEGIN:DAYLIGHT
TZOFFSETFROM:+0000
TZOFFSETTO:+0100
TZNAME:BST
DTSTART:20190331T020000Z
RRULE:FREQ=YEARLY;BYMONTH=3;BYDAY=-1SU
END:DAYLIGHT
BEGIN:STANDARD
TZOFFSETFROM:+0100
TZOFFSETTO:+0000
TZNAME:GMT
DTSTART:20191027T020000Z
RRULE:FREQ=YEARLY;BYMONTH=10;BYDAY=-1SU
END:STANDARD
END:VTIMEZONE
BEGIN:VEVENT
SUMMARY:Norsk Munnharpeforum 25
DTSTAMP:20230621T160219Z
SEQUENCE:0
UID:387-9-3c95f101bcfd9f1d975a45444a9763fd@www.oberton.pro
ORGANIZER;CN="0leg":forum@oberton.pro
DESCRIPTION:\n\n	The Norwegian Jews harp Forum turns 25 and invites you 
	to the anniversary festival: Munnharpefeber!\n\n\n\n	There will be courses
	 and concerts!\n\n	Norway's foremost mouthpiece players are celebrating th
	e anniversary with powerful traditional spells\, and will also watch the c
	ommissioning work of contemporary composers Anne Hytta and Eivind Buene.\n
	\n	The festival is organized by the Norwegian Mouth Sharp forum in collabo
	ration with the National Scene and the Ultima Festival.\n\n	The festival c
	an also slip with wonderful athletes like:\n\n	Anders Røine\, Kenneth Lie
	n\, Tom Willy Rustad\, Veronika Søum and Thov Wetterhus\, and not least D
	aniel Sandèn Warg:\n\n	Set off the date already!\n\n	More info is coming.
	\n\n\n\n	https://www.facebook.com/events/179916498132318/\n\n
DTSTART;VALUE=DATE:20230915
DTEND;VALUE=DATE:20230917
END:VEVENT
BEGIN:VEVENT
SUMMARY:Munnharpefestivalen 2019
DTSTAMP:20190529T130949Z
SEQUENCE:0
UID:243-9-3c95f101bcfd9f1d975a45444a9763fd@www.oberton.pro
ORGANIZER;CN="vtl":forum@oberton.pro
DESCRIPTION:\n\n	Den norske Munnharpefestivalen 2019\n\n\n\n	Munnharpefe
	stivalen blir i år på Rauland frå 20. til 22. september.\n\n\n\n	Set av
	 denne helga alt nå!\n\n\n\n	Fleire detaljar kjem etter kvart.\n\n
DTSTART;VALUE=DATE:20190920
DTEND;VALUE=DATE:20190922
END:VEVENT
END:VCALENDAR
