BEGIN:VCALENDAR
VERSION:2.0
PRODID:-//IP.Board Calendar 4.3.6//EN
METHOD:PUBLISH
CALSCALE:GREGORIAN
BEGIN:VTIMEZONE
TZID:Europe/London
TZURL:http://tzurl.org/zoneinfo/Europe/London
X-LIC-LOCATION:Europe/London
BEGIN:DAYLIGHT
TZOFFSETFROM:+0000
TZOFFSETTO:+0100
TZNAME:BST
DTSTART:20190331T020000Z
RRULE:FREQ=YEARLY;BYMONTH=3;BYDAY=-1SU
END:DAYLIGHT
BEGIN:STANDARD
TZOFFSETFROM:+0100
TZOFFSETTO:+0000
TZNAME:GMT
DTSTART:20191027T020000Z
RRULE:FREQ=YEARLY;BYMONTH=10;BYDAY=-1SU
END:STANDARD
END:VTIMEZONE
BEGIN:VEVENT
SUMMARY:24th North American Jaw Harp Festival (USA\, Cottage Grove\,
	 Oregon)
DTSTAMP:20190518T090127Z
SEQUENCE:0
UID:240-2-3c95f101bcfd9f1d975a45444a9763fd@www.oberton.pro
ORGANIZER;CN="0leg":forum@oberton.pro
DESCRIPTION:\n\n	The NAJHFest is returning to Cottage Grove\, OR.\, June
	 26-30th 2019. NAJH has reserved a group site for up to 50 at Schwarz Camp
	ground near Cottage Grove. Camping is by reservation only through NAJH. Em
	ail Porky Miller at porky.najh@gmail.com for pre-registration!!NOTE: Campi
	ng is limited to 50\, and is FIRST COME FIRST SERVE.\n\n\n	Thursday evenin
	g (the 27th ) we will gather for our 'MEET &amp\; GREET' at the Axe and Fi
	ddle Pub\, 657 E. Main St.in downtown Cottage Grove. We have the stage for
	 the night for a harpist open mic.\n\n	Friday and Saturday will offer : 'H
	OW TO' workshops and performances at the Opal Center for Art &amp\; Educat
	ion\, 513 E. Main St. (schedule to be announced). We are hoping to have a 
	raffle (donations of any kind are welcome!!) \n\n\n\n	https://www.facebook
	.com/events/506143406460311/\n\n
DTSTART:20190626T130000Z
DTEND:20190629T210000Z
END:VEVENT
END:VCALENDAR
