BEGIN:VCALENDAR
VERSION:2.0
PRODID:-//IP.Board Calendar 4.3.6//EN
METHOD:PUBLISH
CALSCALE:GREGORIAN
BEGIN:VTIMEZONE
TZID:Europe/London
TZURL:http://tzurl.org/zoneinfo/Europe/London
X-LIC-LOCATION:Europe/London
BEGIN:DAYLIGHT
TZOFFSETFROM:+0000
TZOFFSETTO:+0100
TZNAME:BST
DTSTART:20230326T020000Z
RRULE:FREQ=YEARLY;BYMONTH=3;BYDAY=-1SU
END:DAYLIGHT
BEGIN:STANDARD
TZOFFSETFROM:+0100
TZOFFSETTO:+0000
TZNAME:GMT
DTSTART:20231029T020000Z
RRULE:FREQ=YEARLY;BYMONTH=10;BYDAY=-1SU
END:STANDARD
END:VTIMEZONE
BEGIN:VEVENT
SUMMARY:Parmupillilaager - Jews Harp Camp (Estonia\, Liivi Koolimaja
	)
DTSTAMP:20230621T155310Z
SEQUENCE:0
UID:385-14-3c95f101bcfd9f1d975a45444a9763fd@www.oberton.pro
ORGANIZER;CN="0leg":forum@oberton.pro
DESCRIPTION:\n	\n		\n			Registration for the firearm camp is open!\n\n		
		So\, if you are somehow attracted by this instrument and would like to le
	arn how to play it better\, then definitely sign up!!! \n\n			Application
	s are expected on the 17th. by april.\n		\n\n		\n			NEWS:\n\n			Headed to 
	the harp instrument game and also the summer enjoyment camp is taking plac
	e 13. -16 in july Liivi village\, Läänemaa.\n\n			The gunpowder camp is 
	a place where you can devote yourself to playing the gunpowder. In terms o
	f music\, the focus is on Estonian drum music\, leading with the repertoir
	e of Läänemaa musicians Villem Ilumäe\, Priido Maritov and Jaan Ranna. 
	When dealing with percussion music\, we also deal with improvisation and e
	xperimental side of the instrument.\n\n			ri During the camp there will be
	 bonfire and sauna evenings\, nature hikes and concerts. We eat food made 
	from local raw materials as much as possible.\n\n			m Katariin Raska\, Mei
	sterjaan and Ulvi V .sa will instruct things related to the barrel instrum
	ent. Other activities are taken care of by Liivi Community House\, Liina M
	eta Kuuskman.\n\n			ö The overnight stay will take place in the hall of L
	iivi schoolhouse.\n\n			asu Camp participation fee is 90 euros. The price 
	includes study room\, accommodation and catering.\n\n			More information c
	an be found on the registration page!\n\n			Register early because the num
	ber of participants is limited!\n\n			The gunpowder camp is supported by E
	stonian Culture Capital\n		\n\n		\n			https://www.facebook.com/events/5309
	29222538961/\n		\n	\n
DTSTART;VALUE=DATE:20230713
DTEND;VALUE=DATE:20230716
END:VEVENT
END:VCALENDAR
